BEGIN:VCALENDAR
VERSION:2.0
PRODID:-//Netzwerk für Begabung - ECPv6.15.20//NONSGML v1.0//EN
CALSCALE:GREGORIAN
METHOD:PUBLISH
X-WR-CALNAME:Netzwerk für Begabung
X-ORIGINAL-URL:https://netzwerkbegabung.de
X-WR-CALDESC:Veranstaltungen für Netzwerk für Begabung
REFRESH-INTERVAL;VALUE=DURATION:PT1H
X-Robots-Tag:noindex
X-PUBLISHED-TTL:PT1H
BEGIN:VTIMEZONE
TZID:Europe/Berlin
BEGIN:DAYLIGHT
TZOFFSETFROM:+0100
TZOFFSETTO:+0200
TZNAME:CEST
DTSTART:20250330T010000
END:DAYLIGHT
BEGIN:STANDARD
TZOFFSETFROM:+0200
TZOFFSETTO:+0100
TZNAME:CET
DTSTART:20251026T010000
END:STANDARD
BEGIN:DAYLIGHT
TZOFFSETFROM:+0100
TZOFFSETTO:+0200
TZNAME:CEST
DTSTART:20260329T010000
END:DAYLIGHT
BEGIN:STANDARD
TZOFFSETFROM:+0200
TZOFFSETTO:+0100
TZNAME:CET
DTSTART:20261025T010000
END:STANDARD
BEGIN:DAYLIGHT
TZOFFSETFROM:+0100
TZOFFSETTO:+0200
TZNAME:CEST
DTSTART:20270328T010000
END:DAYLIGHT
BEGIN:STANDARD
TZOFFSETFROM:+0200
TZOFFSETTO:+0100
TZNAME:CET
DTSTART:20271031T010000
END:STANDARD
END:VTIMEZONE
BEGIN:VEVENT
DTSTART;TZID=Europe/Berlin:20260227T190000
DTEND;TZID=Europe/Berlin:20260227T203000
DTSTAMP:20260422T132159
CREATED:20260211T121059Z
LAST-MODIFIED:20260211T121059Z
UID:202-1772218800-1772224200@netzwerkbegabung.de
SUMMARY:Elterngruppe Allgäu
DESCRIPTION:Eltern von (vermutet) hochbegabten Kindern treffen sich zum gemeinsamen Austausch. Das Elterntreffen startet mit einem fachlichen Input zum Thema Hochbegabung und wird von mir moderiert. Herzlich willkommen sind auch Lehrkräfte und pädagogische Fachkräfte die Fragen zum Thema Hochbegabung mitbringen. \nAnmeldung: connect@netzwerkbegabung.de \nDie Veranstaltung ist kostenlos.
URL:https://netzwerkbegabung.de/event/elterngruppe-allgaeu/
LOCATION:Familienstützpunkt Marktoberdorf\, Jahnstr. 12\, Marktoberdorf
ATTACH;FMTTYPE=image/jpeg:https://netzwerkbegabung.de/wp-content/uploads/2026/01/pexels-shvets-production-7176305-scaled.jpg
ORGANIZER;CN="Netzwerk f%C3%BCr Begabung":MAILTO:connect@netzwerkbegabung.de
END:VEVENT
END:VCALENDAR