BEGIN:VCALENDAR
VERSION:2.0
PRODID:-//Netzwerk für Begabung - ECPv6.15.20//NONSGML v1.0//EN
CALSCALE:GREGORIAN
METHOD:PUBLISH
X-ORIGINAL-URL:https://netzwerkbegabung.de
X-WR-CALDESC:Veranstaltungen für Netzwerk für Begabung
REFRESH-INTERVAL;VALUE=DURATION:PT1H
X-Robots-Tag:noindex
X-PUBLISHED-TTL:PT1H
BEGIN:VTIMEZONE
TZID:Europe/Berlin
BEGIN:DAYLIGHT
TZOFFSETFROM:+0100
TZOFFSETTO:+0200
TZNAME:CEST
DTSTART:20250330T010000
END:DAYLIGHT
BEGIN:STANDARD
TZOFFSETFROM:+0200
TZOFFSETTO:+0100
TZNAME:CET
DTSTART:20251026T010000
END:STANDARD
BEGIN:DAYLIGHT
TZOFFSETFROM:+0100
TZOFFSETTO:+0200
TZNAME:CEST
DTSTART:20260329T010000
END:DAYLIGHT
BEGIN:STANDARD
TZOFFSETFROM:+0200
TZOFFSETTO:+0100
TZNAME:CET
DTSTART:20261025T010000
END:STANDARD
BEGIN:DAYLIGHT
TZOFFSETFROM:+0100
TZOFFSETTO:+0200
TZNAME:CEST
DTSTART:20270328T010000
END:DAYLIGHT
BEGIN:STANDARD
TZOFFSETFROM:+0200
TZOFFSETTO:+0100
TZNAME:CET
DTSTART:20271031T010000
END:STANDARD
END:VTIMEZONE
BEGIN:VEVENT
DTSTART;TZID=Europe/Berlin:20260228T090000
DTEND;TZID=Europe/Berlin:20260228T160000
DTSTAMP:20260422T113922
CREATED:20260211T121248Z
LAST-MODIFIED:20260211T121248Z
UID:205-1772269200-1772294400@netzwerkbegabung.de
SUMMARY:Seminar für Frauen: Mindful Clever
DESCRIPTION:Ein ganzer Tag nur für kluge Frauen zur inneren Stärkung. Dafür konnte ich die wunderbare Diplom-Psychologin und Psychologische Psychotherapeutin Sabine Martini gewinnen.\nDie Rahmenbedingungen:\n9:00 Uhr – 16:00 Uhr in den Praxisräumen des Netzwerk für Begabung in Langenhaslach\nnur für hochbegabte Frauen oder Mütter von hochbegabten Kindern\n100 € inklusive vegetarischer Mittagsimbiss und ganz viel positiver Energie \nAnmeldung: silvera@seelsorgepraxis-schmider.de \nAusgebucht! -> Es wird eine Warteliste geführt. \nWorum geht es konkret: \nMindful Clever: Ein Tag für dich.\nZum Ankommen. Klären. Und leichter Weitergehen.\nWorkshop für hochbegabte Frauen \nVielleicht kennst du das auch: Deine Wahrnehmung ist fein und tief\, dein Denken schnell und komplex. Du sehnst dich nach sinnvollem Input – und nach weniger Reizüberflutung von außen. Obwohl du viel weißt und kannst\, fühlst du dich „irgendwie anders“ und vom sogenannten „normalen“ Leben manchmal irritiert oder überfordert.\nDu spürst deine Stärke – und deine Erschöpfung. Dein Verstehen – und dein Nicht-immer-Verstanden-Werden. Dein Dazugehören-Wollen – und dein leises „Alien-Gefühl“. \nWie wäre es\, für einen Moment aus dem inneren und äußeren Trubel auszusteigen? Durchzuatmen\, dich zu sortieren und Klarheit darüber zu finden\, wie es für dich – und mit dir in dieser komplexen Welt – leichter weitergehen kann? \nGenau dazu lade ich dich ein. \nIn diesem Tagesworkshop darfst du ankommen\, durchatmen und erleben\, wie viel leichter es wird\, wenn du dich selbst wieder klar spürst – wenn du erkennst\, wie deine innere Architektur aufgebaut ist und beginnst\, ihr zu vertrauen.\nDu brauchst nichts vorzubereiten. Bring einfach dich selbst mit – so\, wie du bist. \n\nWas dich erwartet \nWir arbeiten an drei Ebenen\, die sich gegenseitig stärken und dir Orientierung geben: \n1. Klärung & Orientierung\nDu bekommst Raum\, um zu prüfen: Was gehört wirklich zu mir – und was nicht?\nIch zeige dir eine sanfte\, praxiserprobte Übung\, mit der du dich jederzeit sortieren kannst\, deine Grenzen klarer spürst und bewusster wählen kannst\, was du wie nah an dich heranlassen möchtest. \n2. Selbstverständnis & Selbstwert\nDu erkennst\, wie deine Art zu denken und zu fühlen Teil eines größeren Ganzen ist – und warum du genauso gebraucht wirst\, wie du bist.\nIch lade dich ein\, dein So-Sein aus einer neuen Perspektive zu betrachten und Frieden damit zu schließen\, dass du komplex (und wunder-voll) bist.\nDu spürst wieder: Ich bin genau richtig\, wie ich bin. \n3. Stärkung & Verbindung\nDu lernst mehrere kleine\, wirksame Hacks kennen – für Fokus\, Abgrenzung\, Entlastung und Selbstwirksamkeit.\nDu bekommst Raum für ehrlichen Austausch\, Resonanz und Verbundenheit mit anderen Frauen\, die ähnlich empfinden.\nUnd du nimmst etwas mit\, das du wirklich gebrauchen kannst: mehr Vertrauen in dich – und mehr Leichtigkeit im Alltag. \nWenn du spürst: Es darf leichter werden\, dann ist dieser Tag genau der richtige Anfang.\nIch freue mich auf dich. \n  \n\nÜber mich \nAls Viel- und Feinfühlerin\, Schnell- und Komplexdenkerin und leidenschaftliche „Geht-bestimmt-auch-anders“-Entdeckerin begleite ich seit vielen Jahren Menschen darin\, ihrem eigenen So-Sein ein klares „Ja“ zu geben – und ihre Potenziale mit Freude zu leben. Für mich geht es nur mit Herz UND Verstand\, weil wahre Stärke dort entsteht\, wo wir vollständig werden.\nDas bedeutet Mindful Clever für mich:\nKomplexität verstehen. Und in Stärke leben.\n \nSabine Martini\nDiplom-Psychologin\nPsychologische Psychotherapeutin
URL:https://netzwerkbegabung.de/event/seminar-fuer-frauen-mindful-clever/
LOCATION:Netzwerk für Begabung\, Riedstr. 2\, Langenhaslach\, 86476\, Germany
ORGANIZER;CN="Netzwerk f%C3%BCr Begabung":MAILTO:connect@netzwerkbegabung.de
END:VEVENT
END:VCALENDAR