BEGIN:VCALENDAR
VERSION:2.0
PRODID:-//Netzwerk für Begabung - ECPv6.15.20//NONSGML v1.0//EN
CALSCALE:GREGORIAN
METHOD:PUBLISH
X-WR-CALNAME:Netzwerk für Begabung
X-ORIGINAL-URL:https://netzwerkbegabung.de
X-WR-CALDESC:Veranstaltungen für Netzwerk für Begabung
REFRESH-INTERVAL;VALUE=DURATION:PT1H
X-Robots-Tag:noindex
X-PUBLISHED-TTL:PT1H
BEGIN:VTIMEZONE
TZID:Europe/Berlin
BEGIN:DAYLIGHT
TZOFFSETFROM:+0100
TZOFFSETTO:+0200
TZNAME:CEST
DTSTART:20250330T010000
END:DAYLIGHT
BEGIN:STANDARD
TZOFFSETFROM:+0200
TZOFFSETTO:+0100
TZNAME:CET
DTSTART:20251026T010000
END:STANDARD
BEGIN:DAYLIGHT
TZOFFSETFROM:+0100
TZOFFSETTO:+0200
TZNAME:CEST
DTSTART:20260329T010000
END:DAYLIGHT
BEGIN:STANDARD
TZOFFSETFROM:+0200
TZOFFSETTO:+0100
TZNAME:CET
DTSTART:20261025T010000
END:STANDARD
BEGIN:DAYLIGHT
TZOFFSETFROM:+0100
TZOFFSETTO:+0200
TZNAME:CEST
DTSTART:20270328T010000
END:DAYLIGHT
BEGIN:STANDARD
TZOFFSETFROM:+0200
TZOFFSETTO:+0100
TZNAME:CET
DTSTART:20271031T010000
END:STANDARD
END:VTIMEZONE
BEGIN:VEVENT
DTSTART;TZID=Europe/Berlin:20260311T090000
DTEND;TZID=Europe/Berlin:20260311T110000
DTSTAMP:20260421T173507
CREATED:20260211T121719Z
LAST-MODIFIED:20260211T121719Z
UID:208-1773219600-1773226800@netzwerkbegabung.de
SUMMARY:Spieletreff für 3-5-jährige
DESCRIPTION:Eltern von 3-5 jährigen Kindern\, die Hinweise auf Hochbegabung haben\, treffen sich mit Ihren Kindern zum Spieletreff in meiner Praxis. Bei diesem Spieletreff ist es nicht möglich\, sich als Eltern zurückzuziehen. Gemeinsam begleiten wir das Spiel der Kinder. \nSpiele sind vorhanden\, dürfen aber gerne selbst mitgebracht werden. Da der Platz sehr begrenzt ist bitte um vorherige Anmeldung unter: silvera@seelsorgepraxis-schmider.de  \nKaffee\, Tee und Wasser sind vorhanden. \nGebühr: 15\,00 € \nDie Gebühr kann entweder bar bezahlt werden oder vorab via PayPal: \nhttps://paypal.me/SilveraSchmider?country.x=DE&locale.x=de_DE
URL:https://netzwerkbegabung.de/event/spieletreff-fuer-3-5-jaehrige/
LOCATION:Netzwerk für Begabung\, Riedstr. 2\, Langenhaslach\, 86476\, Germany
ATTACH;FMTTYPE=image/jpeg:https://netzwerkbegabung.de/wp-content/uploads/2026/02/Spieletreff-scaled.jpg
ORGANIZER;CN="Netzwerk f%C3%BCr Begabung":MAILTO:connect@netzwerkbegabung.de
END:VEVENT
END:VCALENDAR